Workbook

Sheet Transaction
A1: SaaS Example Co - Transaction
A2: $USD
A3: Projection Set: "Base Case"
A4: Actuals Through: Q2 2026
B6: Entry Logic
A8: 7 | B8: Transaction Month | C8: Q4 2026
B10: Purchase Price
B11: Q4 2026 TTM EBITDA | C11: =(Model!I31+Model!J31+Model!K31+Model!L31) -> 4949805.1
B12: Purchase Multiple | C12: =10 -> 10
B13: Purchase Enterprise Value | C13: =C11*C12 -> 49498051
B16: Exit Logic
A18: 27 | B18: Exit Month | C18: Q4 2031
B20: Exit Price
B21: Exit EBITDA | C21: =(Model!AM31+Model!AN31+Model!AO31+Model!AP31) -> 17271694
B22: Exit Multiple | C22: =C12 -> 10
B23: Exit Enterprise Value | C23: =C21*C22 -> 1.7271694e+08
B24: Less: Debt Repayment | C24: =-SUM(Model!AP73,Model!AP76,Model!AP78) -> 0
B25: Plus: Cash | C25: =Model!AP54 -> 22213823
B26: Exit Equity Value | C26: =C23+C24+C25 -> 1.9493076e+08
B27: Sponsor Ownership % | C27: =IFERROR(C36/(C36+C39),0) -> 0.82711095
B28: Sponsor Exit Proceeds | C28: =C27*C26 -> 1.6122937e+08
B31: Sources and Uses
B33: Q4 2026 TTM EBITDA | C33: =C11 -> 4949805.1
B35: Sources | C35: $ | D35: % | E35: Multiple | G35: Uses | H35: $ | I35: % | J35: Multiple
B36: Sponsor Equity | C36: =H43-C37-C38-C39-C40 -> 23680146 | D36: =IFERROR(C36/C43,0) -> 0.37694789 | E36: =IFERROR(C36/C33,0) -> 4.7840563 | G36: Cash to Shareholders | H36: =C13-SUM(C69,C72,C74)+C50-C38-C39 -> 48490207 | I36: =IFERROR(H36/H43,0) -> 0.7718821 | J36: =IFERROR(H36/C33,0) -> 9.796387
B37: Senior Term Debt | C37: =C33*E37 -> 19799221 | D37: =IFERROR(C37/C43,0) -> 0.31517011 | E37: =4 -> 4 | G37: Existing Debt Repayment | H37: =SUM(C69,C72,C74) -> 550000 | I37: =IFERROR(H37/H43,0) -> 0.00875507 | J37: =IFERROR(H37/C33,0) -> 0.11111549
B38: Seller Note | C38: =C33*E38 -> 4949805.1 | D38: =IFERROR(C38/C43,0) -> 0.078792528 | E38: =1 -> 1 | G38: Seller Note | H38: =C38 -> 4949805.1 | I38: =IFERROR(H38/H43,0) -> 0.078792528 | J38: =IFERROR(H38/C33,0) -> 1
B39: Rolled Equity | C39: =C33*E39 -> 4949805.1 | D39: =IFERROR(C39/C43,0) -> 0.078792528 | E39: =1 -> 1 | G39: Rolled Equity | H39: =C39 -> 4949805.1 | I39: =IFERROR(H39/H43,0) -> 0.078792528 | J39: =IFERROR(H39/C33,0) -> 1
B40: Existing Cash | C40: =C50 -> 9441765.7 | D40: =IFERROR(C40/C43,0) -> 0.15029694 | E40: =IFERROR(C40/C33,0) -> 1.9075025 | G40: Cash to Balance Sheet | H40: =2000000 -> 2000000 | I40: =IFERROR(H40/H43,0) -> 0.031836618 | J40: =IFERROR(H40/C33,0) -> 0.40405631
G41: Senior Debt Financing Fee | H41: =0.02*C37 -> 395984.41 | I41: =IFERROR(H41/H43,0) -> 0.0063034022 | J41: =IFERROR(H41/C33,0) -> 0.08
G42: Transaction Fees | H42: =0.03*C13 -> 1484941.5 | I42: =IFERROR(H42/H43,0) -> 0.023637758 | J42: =IFERROR(H42/C33,0) -> 0.3
B43: Total Sources | C43: =SUM(C36,C37,C38,C39,C40) -> 62820743 | D43: =SUM(D36,D37,D38,D39,D40) -> 1 | E43: =SUM(E36,E37,E38,E39,E40) -> 12.691559 | G43: Total Uses | H43: =SUM(H36,H37,H38,H39,H40,H41,H42) -> 62820743 | I43: =SUM(I36,I37,I38,I39,I40,I41,I42) -> 1 | J43: =SUM(J36,J37,J38,J39,J40,J41,J42) -> 12.691559
B46: Balance Sheet Adjustments
C48: =IF($C8="","Unadjusted","Unadjusted ("&$C8&")") -> Unadjusted (Q4 2026) | D48: LBO Adjustments | E48: Pro Forma
B49: Assets
B50: Cash & Cash Equivalents | C50: =Model!K54+Model!L259 -> 9441765.7 | D50: =-C50+H40 -> -7441765.7 | E50: =C50+D50 -> 2000000
B51: Accounts Receivable | C51: =Model!L105 -> 3120524.6 | D51: 0 | E51: =C51+D51 -> 3120524.6
B52: Prepaid Expenses | C52: =Model!L106 -> 255000 | D52: 0 | E52: =C52+D52 -> 255000
B53: Other Current Assets | C53: =Model!L107 -> 100000 | D53: 0 | E53: =C53+D53 -> 100000
B54: Total Current Assets | C54: =SUM(C50,C51,C52,C53) -> 12917290 | D54: =SUM(D50,D51,D52,D53) -> -7441765.7 | E54: =SUM(E50,E51,E52,E53) -> 5475524.6
...

Sheet Model
A1: SaaS Example Co - Model
A2: $USD
A3: Projection Set: "Base Case" | C3: 2025 | G3: 2025 | I3: 2026 | M3: 2026 | O3: 2027 | S3: 2027 | U3: 2028 | Y3: 2028 | AA3: 2029 | AE3: 2029 | AG3: 2030 | AK3: 2030 | AM3: 2031 | AQ3: 2031
A4: Actuals Through: Q2 2026 | C4: Q1 | D4: Q2 | E4: Q3 | F4: Q4 | G4: Full Year | I4: Q1 | J4: Q2 | K4: Q3 | L4: Q4 | M4: Full Year | O4: Q1 | P4: Q2 | Q4: Q3 | R4: Q4 | S4: Full Year | U4: Q1 | V4: Q2 | W4: Q3 | X4: Q4 | Y4: Full Year | AA4: Q1 | AB4: Q2 | AC4: Q3 | AD4: Q4 | AE4: Full Year | AG4: Q1 | AH4: Q2 | AI4: Q3 | AJ4: Q4 | AK4: Full Year | AM4: Q1 | AN4: Q2 | AO4: Q3 | AP4: Q4 | AQ4: Full Year
B6: Income Statement
B8: Revenue
B9: Subscription Revenue | C9: =IS!C9 -> 2800000 | D9: =IS!D9 -> 3080000 | E9: =IS!E9 -> 3388000 | F9: =IS!F9 -> 3727000 | G9: =SUM(C9:F9) -> 12995000 | I9: =IS!I9 -> 4100000 | J9: =IS!J9 -> 4550000 | K9: =IS!K9 -> 4811725.7 | L9: =IS!L9 -> 5073451.3 | M9: =SUM(I9:L9) -> 18535177 | O9: =IS!O9 -> 5315044.2 | P9: =IS!P9 -> 5556637.2 | Q9: =IS!Q9 -> 5798230.1 | R9: =IS!R9 -> 6019690.3 | S9: =SUM(O9:R9) -> 22689602 | U9: =IS!U9 -> 6241150.4 | V9: =IS!V9 -> 6462610.6 | W9: =IS!W9 -> 6663938.1 | X9: =IS!X9 -> 6865265.5 | Y9: =SUM(U9:X9) -> 26232965 | AA9: =IS!AA9 -> 7066592.9 | AB9: =IS!AB9 -> 7247787.6 | AC9: =IS!AC9 -> 7428982.3 | AD9: =IS!AD9 -> 7610177 | AE9: =SUM(AA9:AD9) -> 29353540 | AG9: =IS!AG9 -> 7791371.7 | AH9: =IS!AH9 -> 7952433.6 | AI9: =IS!AI9 -> 8113495.6 | AJ9: =IS!AJ9 -> 8274557.5 | AK9: =SUM(AG9:AJ9) -> 32131858 | AM9: =IS!AM9 -> 8435619.5 | AN9: =IS!AN9 -> 8576548.7 | AO9: =IS!AO9 -> 8717477.9 | AP9: =IS!AP9 -> 8858407.1 | AQ9: =SUM(AM9:AP9) -> 34588053
B10: Professional Services | C10: =IS!C10 -> 280000 | D10: =IS!D10 -> 310000 | E10: =IS!E10 -> 340000 | F10: =IS!F10 -> 360000 | G10: =SUM(C10:F10) -> 1290000 | I10: =IS!I10 -> 390000 | J10: =IS!J10 -> 420000 | K10: =IS!K10 -> 374000 | L10: =IS!L10 -> 396000 | M10: =SUM(I10:L10) -> 1580000 | O10: =IS!O10 -> 429000 | P10: =IS!P10 -> 462000 | Q10: =IS!Q10 -> 411400 | R10: =IS!R10 -> 435600 | S10: =SUM(O10:R10) -> 1738000 | U10: =IS!U10 -> 471900 | V10: =IS!V10 -> 508200 | W10: =IS!W10 -> 452540 | X10: =IS!X10 -> 479160 | Y10: =SUM(U10:X10) -> 1911800 | AA10: =IS!AA10 -> 519090 | AB10: =IS!AB10 -> 559020 | AC10: =IS!AC10 -> 497794 | AD10: =IS!AD10 -> 527076 | AE10: =SUM(AA10:AD10) -> 2102980 | AG10: =IS!AG10 -> 570999 | AH10: =IS!AH10 -> 614922 | AI10: =IS!AI10 -> 547573.4 | AJ10: =IS!AJ10 -> 579783.6 | AK10: =SUM(AG10:AJ10) -> 2313278 | AM10: =IS!AM10 -> 628098.9 | AN10: =IS!AN10 -> 676414.2 | AO10: =IS!AO10 -> 602330.74 | AP10: =IS!AP10 -> 637761.96 | AQ10: =SUM(AM10:AP10) -> 2544605.8
B11: Other Revenue | C11: =IS!C11 -> 45000 | D11: =IS!D11 -> 50000 | E11: =IS!E11 -> 55000 | F11: =IS!F11 -> 60000 | G11: =SUM(C11:F11) -> 210000 | I11: =IS!I11 -> 65000 | J11: =IS!J11 -> 70000 | K11: =IS!K11 -> 60500 | L11: =IS!L11 -> 66000 | M11: =SUM(I11:L11) -> 261500 | O11: =IS!O11 -> 71500 | P11: =IS!P11 -> 77000 | Q11: =IS!Q11 -> 66550 | R11: =IS!R11 -> 72600 | S11: =SUM(O11:R11) -> 287650 | U11: =IS!U11 -> 78650 | V11: =IS!V11 -> 84700 | W11: =IS!W11 -> 73205 | X11: =IS!X11 -> 79860 | Y11: =SUM(U11:X11) -> 316415 | AA11: =IS!AA11 -> 86515 | AB11: =IS!AB11 -> 93170 | AC11: =IS!AC11 -> 80525.5 | AD11: =IS!AD11 -> 87846 | AE11: =SUM(AA11:AD11) -> 348056.5 | AG11: =IS!AG11 -> 95166.5 | AH11: =IS!AH11 -> 102487 | AI11: =IS!AI11 -> 88578.05 | AJ11: =IS!AJ11 -> 96630.6 | AK11: =SUM(AG11:AJ11) -> 382862.15 | AM11: =IS!AM11 -> 104683.15 | AN11: =IS!AN11 -> 112735.7 | AO11: =IS!AO11 -> 97435.855 | AP11: =IS!AP11 -> 106293.66 | AQ11: =SUM(AM11:AP11) -> 421148.37
B12: Total Revenue | C12: =SUM(C9,C10,C11) -> 3125000 | D12: =SUM(D9,D10,D11) -> 3440000 | E12: =SUM(E9,E10,E11) -> 3783000 | F12: =SUM(F9,F10,F11) -> 4147000 | G12: =SUM(C12:F12) -> 14495000 | I12: =SUM(I9,I10,I11) -> 4555000 | J12: =SUM(J9,J10,J11) -> 5040000 | K12: =SUM(K9,K10,K11) -> 5246225.7 | L12: =SUM(L9,L10,L11) -> 5535451.3 | M12: =SUM(I12:L12) -> 20376677 | O12: =SUM(O9,O10,O11) -> 5815544.2 | P12: =SUM(P9,P10,P11) -> 6095637.2 | Q12: =SUM(Q9,Q10,Q11) -> 6276180.1 | R12: =SUM(R9,R10,R11) -> 6527890.3 | S12: =SUM(O12:R12) -> 24715252 | U12: =SUM(U9,U10,U11) -> 6791700.4 | V12: =SUM(V9,V10,V11) -> 7055510.6 | W12: =SUM(W9,W10,W11) -> 7189683.1 | X12: =SUM(X9,X10,X11) -> 7424285.5 | Y12: =SUM(U12:X12) -> 28461180 | AA12: =SUM(AA9,AA10,AA11) -> 7672197.9 | AB12: =SUM(AB9,AB10,AB11) -> 7899977.6 | AC12: =SUM(AC9,AC10,AC11) -> 8007301.8 | AD12: =SUM(AD9,AD10,AD11) -> 8225099 | AE12: =SUM(AA12:AD12) -> 31804576 | AG12: =SUM(AG9,AG10,AG11) -> 8457537.2 | AH12: =SUM(AH9,AH10,AH11) -> 8669842.6 | AI12: =SUM(AI9,AI10,AI11) -> 8749647 | AJ12: =SUM(AJ9,AJ10,AJ11) -> 8950971.7 | AK12: =SUM(AG12:AJ12) -> 34827999 | AM12: =SUM(AM9,AM10,AM11) -> 9168401.5 | AN12: =SUM(AN9,AN10,AN11) -> 9365698.6 | AO12: =SUM(AO9,AO10,AO11) -> 9417244.5 | AP12: =SUM(AP9,AP10,AP11) -> 9602462.7 | AQ12: =SUM(AM12:AP12) -> 37553807
B13: Growth (y-o-y) % | C13: =IFERROR(C12/0-1,0) -> 0 | D13: =IFERROR(D12/0-1,0) -> 0 | E13: =IFERROR(E12/0-1,0) -> 0 | F13: =IFERROR(F12/0-1,0) -> 0 | G13: =IFERROR(G12/0-1,0) -> 0 | I13: =IFERROR(I12/C12-1,0) -> 0.4576 | J13: =IFERROR(J12/D12-1,0) -> 0.46511628 | K13: =IFERROR(K12/E12-1,0) -> 0.38678976 | L13: =IFERROR(L12/F12-1,0) -> 0.33480862 | M13: =IFERROR(M12/G12-1,0) -> 0.40577282 | O13: =IFERROR(O12/I12-1,0) -> 0.27673858 | P13: =IFERROR(P12/J12-1,0) -> 0.20945182 | Q13: =IFERROR(Q12/K12-1,0) -> 0.19632294 | R13: =IFERROR(R12/L12-1,0) -> 0.17928781 | S13: =IFERROR(S12/M12-1,0) -> 0.21291866 | U13: =IFERROR(U12/O12-1,0) -> 0.16785294 | V13: =IFERROR(V12/P12-1,0) -> 0.15746893 | W13: =IFERROR(W12/Q12-1,0) -> 0.14555079 | X13: =IFERROR(X12/R12-1,0) -> 0.13731775 | Y13: =IFERROR(Y12/S12-1,0) -> 0.15156341 | AA13: =IFERROR(AA12/U12-1,0) -> 0.12964316 | AB13: =IFERROR(AB12/V12-1,0) -> 0.119689 | AC13: =IFERROR(AC12/W12-1,0) -> 0.11372111 | AD13: =IFERROR(AD12/X12-1,0) -> 0.10786405 | AE13: =IFERROR(AE12/Y12-1,0) -> 0.11747218 | AG13: =IFERROR(AG12/AA12-1,0) -> 0.10236171 | AH13: =IFERROR(AH12/AB12-1,0) -> 0.097451544 | AI13: =IFERROR(AI12/AC12-1,0) -> 0.092708536 | AJ13: =IFERROR(AJ12/AD12-1,0) -> 0.088250942 | AK13: =IFERROR(AK12/AE12-1,0) -> 0.09506249 | AM13: =IFERROR(AM12/AG12-1,0) -> 0.084050986 | AN13: =IFERROR(AN12/AH12-1,0) -> 0.080261658 | AO13: =IFERROR(AO12/AI12-1,0) -> 0.076299929 | AP13: =IFERROR(AP12/AJ12-1,0) -> 0.072784386 | AQ13: =IFERROR(AQ12/AK12-1,0) -> 0.078264868
B15: Cost of Goods Sold
B16: Hosting & Infrastructure | C16: =IS!C16 -> -312500 | D16: =IS!D16 -> -340000 | E16: =IS!E16 -> -370000 | F16: =IS!F16 -> -395000 | G16: =SUM(C16:F16) -> -1417500 | I16: =IS!I16 -> -425000 | J16: =IS!J16 -> -460000 | K16: =IS!K16 -> -495282.33 | L16: =IS!L16 -> -522587.37 | M16: =SUM(I16:L16) -> -1902869.7 | O16: =IS!O16 -> -549030.2 | P16: =IS!P16 -> -575473.04 | Q16: =IS!Q16 -> -592517.62 | R16: =IS!R16 -> -616280.91 | S16: =SUM(O16:R16) -> -2333301.8 | U16: =IS!U16 -> -641186.53 | V16: =IS!V16 -> -666092.16 | W16: =IS!W16 -> -678759.02 | X16: =IS!X16 -> -700907.22 | Y16: =SUM(U16:X16) -> -2686944.9 | AA16: =IS!AA16 -> -724311.98 | AB16: =IS!AB16 -> -745816.06 | AC16: =IS!AC16 -> -755948.25 | AD16: =IS!AD16 -> -776509.91 | AE16: =SUM(AA16:AD16) -> -3002586.2 | AG16: =IS!AG16 -> -798453.79 | AH16: =IS!AH16 -> -818496.99 | AI16: =IS!AI16 -> -826031.11 | AJ16: =IS!AJ16 -> -845037.64 | AK16: =SUM(AG16:AJ16) -> -3288019.5 | AM16: =IS!AM16 -> -865564.62 | AN16: =IS!AN16 -> -884190.91 | AO16: =IS!AO16 -> -889057.22 | AP16: =IS!AP16 -> -906543.19 | AQ16: =SUM(AM16:AP16) -> -3545355.9
B17: Customer Support | C17: =IS!C17 -> -187500 | D17: =IS!D17 -> -200000 | E17: =IS!E17 -> -215000 | F17: =IS!F17 -> -230000 | G17: =SUM(C17:F17) -> -832500 | I17: =IS!I17 -> -250000 | J17: =IS!J17 -> -270000 | K17: =IS!K17 -> -289527.59 | L17: =IS!L17 -> -305489.31 | M17: =SUM(I17:L17) -> -1115016.9 | O17: =IS!O17 -> -320947.02 | P17: =IS!P17 -> -336404.73 | Q17: =IS!Q17 -> -346368.5 | R17: =IS!R17 -> -360259.82 | S17: =SUM(O17:R17) -> -1363980.1 | U17: =IS!U17 -> -374818.92 | V17: =IS!V17 -> -389378.02 | W17: =IS!W17 -> -396782.7 | X17: =IS!X17 -> -409729.89 | Y17: =SUM(U17:X17) -> -1570709.5 | AA17: =IS!AA17 -> -423411.63 | AB17: =IS!AB17 -> -435982.29 | AC17: =IS!AC17 -> -441905.27 | AD17: =IS!AD17 -> -453925.02 | AE17: =SUM(AA17:AD17) -> -1755224.2 | AG17: =IS!AG17 -> -466752.77 | AH17: =IS!AH17 -> -478469.44 | AI17: =IS!AI17 -> -482873.66 | AJ17: =IS!AJ17 -> -493984.33 | AK17: =SUM(AG17:AJ17) -> -1922080.2 | AM17: =IS!AM17 -> -505983.8 | AN17: =IS!AN17 -> -516872.19 | AO17: =IS!AO17 -> -519716.89 | AP17: =IS!AP17 -> -529938.67 | AQ17: =SUM(AM17:AP17) -> -2072511.5
B18: Professional Services COGS | C18: =IS!C18 -> -168000 | D18: =IS!D18 -> -186000 | E18: =IS!E18 -> -204000 | F18: =IS!F18 -> -216000 | G18: =SUM(C18:F18) -> -774000 | I18: =IS!I18 -> -234000 | J18: =IS!J18 -> -252000 | K18: =IS!K18 -> -271995.05 | L18: =IS!L18 -> -286990.21 | M18: =SUM(I18:L18) -> -1044985.3 | O18: =IS!O18 -> -301511.86 | P18: =IS!P18 -> -316033.52 | Q18: =IS!Q18 -> -325393.92 | R18: =IS!R18 -> -338444.05 | S18: =SUM(O18:R18) -> -1281383.4 | U18: =IS!U18 -> -352121.52 | V18: =IS!V18 -> -365798.98 | W18: =IS!W18 -> -372755.26 | X18: =IS!X18 -> -384918.43 | Y18: =SUM(U18:X18) -> -1475594.2 | AA18: =IS!AA18 -> -397771.66 | AB18: =IS!AB18 -> -409581.09 | AC18: =IS!AC18 -> -415145.41 | AD18: =IS!AD18 -> -426437.29 | AE18: =SUM(AA18:AD18) -> -1648935.5 | AG18: =IS!AG18 -> -438488.25 | AH18: =IS!AH18 -> -449495.4 | AI18: =IS!AI18 -> -453632.93 | AJ18: =IS!AJ18 -> -464070.78 | AK18: =SUM(AG18:AJ18) -> -1805687.4 | AM18: =IS!AM18 -> -475343.62 | AN18: =IS!AN18 -> -485572.65 | AO18: =IS!AO18 -> -488245.09 | AP18: =IS!AP18 -> -497847.89 | AQ18: =SUM(AM18:AP18) -> -1947009.2
B19: Total Cost of Goods Sold | C19: =SUM(C16,C17,C18) -> -668000 | D19: =SUM(D16,D17,D18) -> -726000 | E19: =SUM(E16,E17,E18) -> -789000 | F19: =SUM(F16,F17,F18) -> -841000 | G19: =SUM(C19:F19) -> -3024000 | I19: =SUM(I16,I17,I18) -> -909000 | J19: =SUM(J16,J17,J18) -> -982000 | K19: =SUM(K16,K17,K18) -> -1056805 | L19: =SUM(L16,L17,L18) -> -1115066.9 | M19: =SUM(I19:L19) -> -4062871.9 | O19: =SUM(O16,O17,O18) -> -1171489.1 | P19: =SUM(P16,P17,P18) -> -1227911.3 | Q19: =SUM(Q16,Q17,Q18) -> -1264280 | R19: =SUM(R16,R17,R18) -> -1314984.8 | S19: =SUM(O19:R19) -> -4978665.2 | U19: =SUM(U16,U17,U18) -> -1368127 | V19: =SUM(V16,V17,V18) -> -1421269.2 | W19: =SUM(W16,W17,W18) -> -1448297 | X19: =SUM(X16,X17,X18) -> -1495555.5 | Y19: =SUM(U19:X19) -> -5733248.7 | AA19: =SUM(AA16,AA17,AA18) -> -1545495.3 | AB19: =SUM(AB16,AB17,AB18) -> -1591379.4 | AC19: =SUM(AC16,AC17,AC18) -> -1612998.9 | AD19: =SUM(AD16,AD17,AD18) -> -1656872.2 | AE19: =SUM(AA19:AD19) -> -6406745.9 | AG19: =SUM(AG16,AG17,AG18) -> -1703694.8 | AH19: =SUM(AH16,AH17,AH18) -> -1746461.8 | AI19: =SUM(AI16,AI17,AI18) -> -1762537.7 | AJ19: =SUM(AJ16,AJ17,AJ18) -> -1803092.8 | AK19: =SUM(AG19:AJ19) -> -7015787.1 | AM19: =SUM(AM16,AM17,AM18) -> -1846892 | AN19: =SUM(AN16,AN17,AN18) -> -1886635.7 | AO19: =SUM(AO16,AO17,AO18) -> -1897019.2 | AP19: =SUM(AP16,AP17,AP18) -> -1934329.8 | AQ19: =SUM(AM19:AP19) -> -7564876.7
B21: Gross Profit | C21: =C12+C19 -> 2457000 | D21: =D12+D19 -> 2714000 | E21: =E12+E19 -> 2994000 | F21: =F12+F19 -> 3306000 | G21: =SUM(C21:F21) -> 11471000 | I21: =I12+I19 -> 3646000 | J21: =J12+J19 -> 4058000 | K21: =K12+K19 -> 4189420.7 | L21: =L12+L19 -> 4420384.4 | M21: =SUM(I21:L21) -> 16313805 | O21: =O12+O19 -> 4644055.2 | P21: =P12+P19 -> 4867725.9 | Q21: =Q12+Q19 -> 5011900.1 | R21: =R12+R19 -> 5212905.5 | S21: =SUM(O21:R21) -> 19736587 | U21: =U12+U19 -> 5423573.5 | V21: =V12+V19 -> 5634241.5 | W21: =W12+W19 -> 5741386.1 | X21: =X12+X19 -> 5928729.9 | Y21: =SUM(U21:X21) -> 22727931 | AA21: =AA12+AA19 -> 6126702.6 | AB21: =AB12+AB19 -> 6308598.2 | AC21: =AC12+AC19 -> 6394302.9 | AD21: =AD12+AD19 -> 6568226.8 | AE21: =SUM(AA21:AD21) -> 25397830 | AG21: =AG12+AG19 -> 6753842.4 | AH21: =AH12+AH19 -> 6923380.8 | AI21: =AI12+AI19 -> 6987109.3 | AJ21: =AJ12+AJ19 -> 7147879 | AK21: =SUM(AG21:AJ21) -> 27812211 | AM21: =AM12+AM19 -> 7321509.5 | AN21: =AN12+AN19 -> 7479062.8 | AO21: =AO12+AO19 -> 7520225.3 | AP21: =AP12+AP19 -> 7668132.9 | AQ21: =SUM(AM21:AP21) -> 29988931
B22: Margin % | C22: =IFERROR(C21/C12,0) -> 0.78624 | D22: =IFERROR(D21/D12,0) -> 0.78895349 | E22: =IFERROR(E21/E12,0) -> 0.79143537 | F22: =IFERROR(F21/F12,0) -> 0.7972028 | G22: =IFERROR(G21/G12,0) -> 0.79137634 | I22: =IFERROR(I21/I12,0) -> 0.80043908 | J22: =IFERROR(J21/J12,0) -> 0.80515873 | K22: =IFERROR(K21/K12,0) -> 0.79855899 | L22: =IFERROR(L21/L12,0) -> 0.79855899 | M22: =IFERROR(M21/M12,0) -> 0.80061166 | O22: =IFERROR(O21/O12,0) -> 0.79855899 | P22: =IFERROR(P21/P12,0) -> 0.79855899 | Q22: =IFERROR(Q21/Q12,0) -> 0.79855899 | R22: =IFERROR(R21/R12,0) -> 0.79855899 | S22: =IFERROR(S21/S12,0) -> 0.79855899 | U22: =IFERROR(U21/U12,0) -> 0.79855899 | V22: =IFERROR(V21/V12,0) -> 0.79855899 | W22: =IFERROR(W21/W12,0) -> 0.79855899 | X22: =IFERROR(X21/X12,0) -> 0.79855899 | Y22: =IFERROR(Y21/Y12,0) -> 0.79855899 | AA22: =IFERROR(AA21/AA12,0) -> 0.79855899 | AB22: =IFERROR(AB21/AB12,0) -> 0.79855899 | AC22: =IFERROR(AC21/AC12,0) -> 0.79855899 | AD22: =IFERROR(AD21/AD12,0) -> 0.79855899 | AE22: =IFERROR(AE21/AE12,0) -> 0.79855899 | AG22: =IFERROR(AG21/AG12,0) -> 0.79855899 | AH22: =IFERROR(AH21/AH12,0) -> 0.79855899 | AI22: =IFERROR(AI21/AI12,0) -> 0.79855899 | AJ22: =IFERROR(AJ21/AJ12,0) -> 0.79855899 | AK22: =IFERROR(AK21/AK12,0) -> 0.79855899 | AM22: =IFERROR(AM21/AM12,0) -> 0.79855899 | AN22: =IFERROR(AN21/AN12,0) -> 0.79855899 | AO22: =IFERROR(AO21/AO12,0) -> 0.79855899 | AP22: =IFERROR(AP21/AP12,0) -> 0.79855899 | AQ22: =IFERROR(AQ21/AQ12,0) -> 0.79855899
B24: Operating Expenses
B25: Sales & Marketing | C25: =IS!C25 -> -937500 | D25: =IS!D25 -> -1032000 | E25: =IS!E25 -> -1097000 | F25: =IS!F25 -> -1161000 | G25: =SUM(C25:F25) -> -4227500 | I25: =IS!I25 -> -1230000 | J25: =IS!J25 -> -1310000 | K25: =IS!K25 -> -1199500 | L25: =IS!L25 -> -1199500 | M25: =SUM(I25:L25) -> -4939000 | O25: =IS!O25 -> -1235485 | P25: =IS!P25 -> -1235485 | Q25: =IS!Q25 -> -1235485 | R25: =IS!R25 -> -1235485 | S25: =SUM(O25:R25) -> -4941940 | U25: =IS!U25 -> -1272549.6 | V25: =IS!V25 -> -1272549.6 | W25: =IS!W25 -> -1272549.6 | X25: =IS!X25 -> -1272549.6 | Y25: =SUM(U25:X25) -> -5090198.2 | AA25: =IS!AA25 -> -1310726 | AB25: =IS!AB25 -> -1310726 | AC25: =IS!AC25 -> -1310726 | AD25: =IS!AD25 -> -1310726 | AE25: =SUM(AA25:AD25) -> -5242904.1 | AG25: =IS!AG25 -> -1350047.8 | AH25: =IS!AH25 -> -1350047.8 | AI25: =IS!AI25 -> -1350047.8 | AJ25: =IS!AJ25 -> -1350047.8 | AK25: =SUM(AG25:AJ25) -> -5400191.3 | AM25: =IS!AM25 -> -1390549.3 | AN25: =IS!AN25 -> -1390549.3 | AO25: =IS!AO25 -> -1390549.3 | AP25: =IS!AP25 -> -1390549.3 | AQ25: =SUM(AM25:AP25) -> -5562197
B26: Research & Development | C26: =IS!C26 -> -781000 | D26: =IS!D26 -> -860000 | E26: =IS!E26 -> -946000 | F26: =IS!F26 -> -1037000 | G26: =SUM(C26:F26) -> -3624000 | I26: =IS!I26 -> -1139000 | J26: =IS!J26 -> -1252000 | K26: =IS!K26 -> -1093500 | L26: =IS!L26 -> -1093500 | M26: =SUM(I26:L26) -> -4578000 | O26: =IS!O26 -> -1126305 | P26: =IS!P26 -> -1126305 | Q26: =IS!Q26 -> -1126305 | R26: =IS!R26 -> -1126305 | S26: =SUM(O26:R26) -> -4505220 | U26: =IS!U26 -> -1160094.2 | V26: =IS!V26 -> -1160094.2 | W26: =IS!W26 -> -1160094.2 | X26: =IS!X26 -> -1160094.2 | Y26: =SUM(U26:X26) -> -4640376.6 | AA26: =IS!AA26 -> -1194897 | AB26: =IS!AB26 -> -1194897 | AC26: =IS!AC26 -> -1194897 | AD26: =IS!AD26 -> -1194897 | AE26: =SUM(AA26:AD26) -> -4779587.9 | AG26: =IS!AG26 -> -1230743.9 | AH26: =IS!AH26 -> -1230743.9 | AI26: =IS!AI26 -> -1230743.9 | AJ26: =IS!AJ26 -> -1230743.9 | AK26: =SUM(AG26:AJ26) -> -4922975.5 | AM26: =IS!AM26 -> -1267666.2 | AN26: =IS!AN26 -> -1267666.2 | AO26: =IS!AO26 -> -1267666.2 | AP26: =IS!AP26 -> -1267666.2 | AQ26: =SUM(AM26:AP26) -> -5070664.8
B27: General & Administrative | C27: =IS!C27 -> -375000 | D27: =IS!D27 -> -395000 | E27: =IS!E27 -> -415000 | F27: =IS!F27 -> -435000 | G27: =SUM(C27:F27) -> -1620000 | I27: =IS!I27 -> -460000 | J27: =IS!J27 -> -488000 | K27: =IS!K27 -> -449500 | L27: =IS!L27 -> -449500 | M27: =SUM(I27:L27) -> -1847000 | O27: =IS!O27 -> -462985 | P27: =IS!P27 -> -462985 | Q27: =IS!Q27 -> -462985 | R27: =IS!R27 -> -462985 | S27: =SUM(O27:R27) -> -1851940 | U27: =IS!U27 -> -476874.55 | V27: =IS!V27 -> -476874.55 | W27: =IS!W27 -> -476874.55 | X27: =IS!X27 -> -476874.55 | Y27: =SUM(U27:X27) -> -1907498.2 | AA27: =IS!AA27 -> -491180.79 | AB27: =IS!AB27 -> -491180.79 | AC27: =IS!AC27 -> -491180.79 | AD27: =IS!AD27 -> -491180.79 | AE27: =SUM(AA27:AD27) -> -1964723.1 | AG27: =IS!AG27 -> -505916.21 | AH27: =IS!AH27 -> -505916.21 | AI27: =IS!AI27 -> -505916.21 | AJ27: =IS!AJ27 -> -505916.21 | AK27: =SUM(AG27:AJ27) -> -2023664.8 | AM27: =IS!AM27 -> -521093.7 | AN27: =IS!AN27 -> -521093.7 | AO27: =IS!AO27 -> -521093.7 | AP27: =IS!AP27 -> -521093.7 | AQ27: =SUM(AM27:AP27) -> -2084374.8
B28: Depreciation & Amortization | C28: =IS!C28 -> 0 | D28: =IS!D28 -> 0 | E28: =IS!E28 -> 0 | F28: =IS!F28 -> 0 | G28: =SUM(C28:F28) -> 0 | I28: =IS!I28 -> 0 | J28: =IS!J28 -> 0 | K28: =K166+K152+K159 -> 0 | L28: =L166+L152+L159 -> 0 | M28: =SUM(I28:L28) -> 0 | O28: =O166+O152+O159 -> 0 | P28: =P166+P152+P159 -> 0 | Q28: =Q166+Q152+Q159 -> 0 | R28: =R166+R152+R159 -> 0 | S28: =SUM(O28:R28) -> 0 | U28: =U166+U152+U159 -> 0 | V28: =V166+V152+V159 -> 0 | W28: =W166+W152+W159 -> 0 | X28: =X166+X152+X159 -> 0 | Y28: =SUM(U28:X28) -> 0 | AA28: =AA166+AA152+AA159 -> 0 | AB28: =AB166+AB152+AB159 -> 0 | AC28: =AC166+AC152+AC159 -> 0 | AD28: =AD166+AD152+AD159 -> 0 | AE28: =SUM(AA28:AD28) -> 0 | AG28: =AG166+AG152+AG159 -> 0 | AH28: =AH166+AH152+AH159 -> 0 | AI28: =AI166+AI152+AI159 -> 0 | AJ28: =AJ166+AJ152+AJ159 -> 0 | AK28: =SUM(AG28:AJ28) -> 0 | AM28: =AM166+AM152+AM159 -> 0 | AN28: =AN166+AN152+AN159 -> 0 | AO28: =AO166+AO152+AO159 -> 0 | AP28: =AP166+AP152+AP159 -> 0 | AQ28: =SUM(AM28:AP28) -> 0
B29: Total Operating Expenses | C29: =SUM(C25,C26,C27,C28) -> -2093500 | D29: =SUM(D25,D26,D27,D28) -> -2287000 | E29: =SUM(E25,E26,E27,E28) -> -2458000 | F29: =SUM(F25,F26,F27,F28) -> -2633000 | G29: =SUM(C29:F29) -> -9471500 | I29: =SUM(I25,I26,I27,I28) -> -2829000 | J29: =SUM(J25,J26,J27,J28) -> -3050000 | K29: =SUM(K25,K26,K27,K28) -> -2742500 | L29: =SUM(L25,L26,L27,L28) -> -2742500 | M29: =SUM(I29:L29) -> -11364000 | O29: =SUM(O25,O26,O27,O28) -> -2824775 | P29: =SUM(P25,P26,P27,P28) -> -2824775 | Q29: =SUM(Q25,Q26,Q27,Q28) -> -2824775 | R29: =SUM(R25,R26,R27,R28) -> -2824775 | S29: =SUM(O29:R29) -> -11299100 | U29: =SUM(U25,U26,U27,U28) -> -2909518.2 | V29: =SUM(V25,V26,V27,V28) -> -2909518.2 | W29: =SUM(W25,W26,W27,W28) -> -2909518.2 | X29: =SUM(X25,X26,X27,X28) -> -2909518.2 | Y29: =SUM(U29:X29) -> -11638073 | AA29: =SUM(AA25,AA26,AA27,AA28) -> -2996803.8 | AB29: =SUM(AB25,AB26,AB27,AB28) -> -2996803.8 | AC29: =SUM(AC25,AC26,AC27,AC28) -> -2996803.8 | AD29: =SUM(AD25,AD26,AD27,AD28) -> -2996803.8 | AE29: =SUM(AA29:AD29) -> -11987215 | AG29: =SUM(AG25,AG26,AG27,AG28) -> -3086707.9 | AH29: =SUM(AH25,AH26,AH27,AH28) -> -3086707.9 | AI29: =SUM(AI25,AI26,AI27,AI28) -> -3086707.9 | AJ29: =SUM(AJ25,AJ26,AJ27,AJ28) -> -3086707.9 | AK29: =SUM(AG29:AJ29) -> -12346832 | AM29: =SUM(AM25,AM26,AM27,AM28) -> -3179309.1 | AN29: =SUM(AN25,AN26,AN27,AN28) -> -3179309.1 | AO29: =SUM(AO25,AO26,AO27,AO28) -> -3179309.1 | AP29: =SUM(AP25,AP26,AP27,AP28) -> -3179309.1 | AQ29: =SUM(AM29:AP29) -> -12717237
B31: Operating Income | C31: =C21+C29 -> 363500 | D31: =D21+D29 -> 427000 | E31: =E21+E29 -> 536000 | F31: =F21+F29 -> 673000 | G31: =SUM(C31:F31) -> 1999500 | I31: =I21+I29 -> 817000 | J31: =J21+J29 -> 1008000 | K31: =K21+K29 -> 1446920.7 | L31: =L21+L29 -> 1677884.4 | M31: =SUM(I31:L31) -> 4949805.1 | O31: =O21+O29 -> 1819280.2 | P31: =P21+P29 -> 2042950.9 | Q31: =Q21+Q29 -> 2187125.1 | R31: =R21+R29 -> 2388130.5 | S31: =SUM(O31:R31) -> 8437486.6 | U31: =U21+U29 -> 2514055.2 | V31: =V21+V29 -> 2724723.2 | W31: =W21+W29 -> 2831867.8 | X31: =X21+X29 -> 3019211.7 | Y31: =SUM(U31:X31) -> 11089858 | AA31: =AA21+AA29 -> 3129898.9 | AB31: =AB21+AB29 -> 3311794.4 | AC31: =AC21+AC29 -> 3397499.1 | AD31: =AD21+AD29 -> 3571423 | AE31: =SUM(AA31:AD31) -> 13410615 | AG31: =AG21+AG29 -> 3667134.5 | AH31: =AH21+AH29 -> 3836672.9 | AI31: =AI21+AI29 -> 3900401.4 | AJ31: =AJ21+AJ29 -> 4061171.1 | AK31: =SUM(AG31:AJ31) -> 15465380 | AM31: =AM21+AM29 -> 4142200.3 | AN31: =AN21+AN29 -> 4299753.7 | AO31: =AO21+AO29 -> 4340916.1 | AP31: =AP21+AP29 -> 4488823.8 | AQ31: =SUM(AM31:AP31) -> 17271694
B32: Margin % | C32: =IFERROR(C31/C12,0) -> 0.11632 | D32: =IFERROR(D31/D12,0) -> 0.12412791 | E32: =IFERROR(E31/E12,0) -> 0.14168649 | F32: =IFERROR(F31/F12,0) -> 0.16228599 | G32: =IFERROR(G31/G12,0) -> 0.13794412 | I32: =IFERROR(I31/I12,0) -> 0.17936334 | J32: =IFERROR(J31/J12,0) -> 0.2 | K32: =IFERROR(K31/K12,0) -> 0.27580222 | L32: =IFERROR(L31/L12,0) -> 0.3031161 | M32: =IFERROR(M31/M12,0) -> 0.24291523 | O32: =IFERROR(O31/O12,0) -> 0.31283059 | P32: =IFERROR(P31/P12,0) -> 0.33514969 | Q32: =IFERROR(Q31/Q12,0) -> 0.34848029 | R32: =IFERROR(R31/R12,0) -> 0.36583496 | S32: =IFERROR(S31/S12,0) -> 0.34138785 | U32: =IFERROR(U31/U12,0) -> 0.3701658 | V32: =IFERROR(V31/V12,0) -> 0.3861837 | W32: =IFERROR(W31/W12,0) -> 0.39387937 | X32: =IFERROR(X31/X12,0) -> 0.40666697 | Y32: =IFERROR(Y31/Y12,0) -> 0.38964857 | AA32: =IFERROR(AA31/AA12,0) -> 0.40795335 | AB32: =IFERROR(AB31/AB12,0) -> 0.41921567 | AC32: =IFERROR(AC31/AC12,0) -> 0.42430011 | AD32: =IFERROR(AD31/AD12,0) -> 0.43421033 | AE32: =IFERROR(AE31/AE12,0) -> 0.42165678 | AG32: =IFERROR(AG31/AG12,0) -> 0.43359366 | AH32: =IFERROR(AH31/AH12,0) -> 0.44253086 | AI32: =IFERROR(AI31/AI12,0) -> 0.44577814 | AJ32: =IFERROR(AJ31/AJ12,0) -> 0.45371287 | AK32: =IFERROR(AK31/AK12,0) -> 0.4440502 | AM32: =IFERROR(AM31/AM12,0) -> 0.4517909 | AN32: =IFERROR(AN31/AN12,0) -> 0.45909589 | AO32: =IFERROR(AO31/AO12,0) -> 0.46095396 | AP32: =IFERROR(AP31/AP12,0) -> 0.46746589 | AQ32: =IFERROR(AQ31/AQ12,0) -> 0.45991859
B34: Other Income / (Expense)
B35: Interest Expense | C35: =IS!C35 -> -25000 | D35: =IS!D35 -> -25000 | E35: =IS!E35 -> -24000 | F35: =IS!F35 -> -23000 | G35: =SUM(C35:F35) -> -97000 | I35: =IS!I35 -> -22000 | J35: =IS!J35 -> -21000 | K35: =K191 -> -19250 | L35: =L191 -> -19250 | M35: =SUM(I35:L35) -> -81500 | O35: =O191 -> 0 | P35: =P191 -> 0 | Q35: =Q191 -> 0 | R35: =R191 -> 0 | S35: =SUM(O35:R35) -> 0 | U35: =U191 -> 0 | V35: =V191 -> 0 | W35: =W191 -> 0 | X35: =X191 -> 0 | Y35: =SUM(U35:X35) -> 0 | AA35: =AA191 -> 0 | AB35: =AB191 -> 0 | AC35: =AC191 -> 0 | AD35: =AD191 -> 0 | AE35: =SUM(AA35:AD35) -> 0 | AG35: =AG191 -> 0 | AH35: =AH191 -> 0 | AI35: =AI191 -> 0 | AJ35: =AJ191 -> 0 | AK35: =SUM(AG35:AJ35) -> 0 | AM35: =AM191 -> 0 | AN35: =AN191 -> 0 | AO35: =AO191 -> 0 | AP35: =AP191 -> 0 | AQ35: =SUM(AM35:AP35) -> 0
B36: Other Income (Expense) | C36: =IS!C36 -> 12000 | D36: =IS!D36 -> 15000 | E36: =IS!E36 -> 18000 | F36: =IS!F36 -> 20000 | G36: =SUM(C36:F36) -> 65000 | I36: =IS!I36 -> 22000 | J36: =IS!J36 -> 24000 | K36: =IS!K36 -> 21000 | L36: =IS!L36 -> 21000 | M36: =SUM(I36:L36) -> 88000 | O36: =IS!O36 -> 21630 | P36: =IS!P36 -> 21630 | Q36: =IS!Q36 -> 21630 | R36: =IS!R36 -> 21630 | S36: =SUM(O36:R36) -> 86520 | U36: =IS!U36 -> 22278.9 | V36: =IS!V36 -> 22278.9 | W36: =IS!W36 -> 22278.9 | X36: =IS!X36 -> 22278.9 | Y36: =SUM(U36:X36) -> 89115.6 | AA36: =IS!AA36 -> 22947.267 | AB36: =IS!AB36 -> 22947.267 | AC36: =IS!AC36 -> 22947.267 | AD36: =IS!AD36 -> 22947.267 | AE36: =SUM(AA36:AD36) -> 91789.068 | AG36: =IS!AG36 -> 23635.685 | AH36: =IS!AH36 -> 23635.685 | AI36: =IS!AI36 -> 23635.685 | AJ36: =IS!AJ36 -> 23635.685 | AK36: =SUM(AG36:AJ36) -> 94542.74 | AM36: =IS!AM36 -> 24344.756 | AN36: =IS!AN36 -> 24344.756 | AO36: =IS!AO36 -> 24344.756 | AP36: =IS!AP36 -> 24344.756 | AQ36: =SUM(AM36:AP36) -> 97379.022
B37: Interest Expense (Senior Term Debt) | C37: =C38+C39 -> 0 | D37: =D38+D39 -> 0 | E37: =E38+E39 -> 0 | F37: =F38+F39 -> 0 | G37: =SUM(C37:F37) -> 0 | I37: =I38+I39 -> 0 | J37: =J38+J39 -> 0 | K37: =K38+K39 -> 0 | L37: =L38+L39 -> 0 | M37: =SUM(I37:L37) -> 0 | O37: =O38+O39 -> -512110.76 | P37: =P38+P39 -> -499873.5 | Q37: =Q38+Q39 -> -480399.22 | R37: =R38+R39 -> -458676.81 | S37: =SUM(O37:R37) -> -1951060.3 | U37: =U38+U39 -> -431278.63 | V37: =V38+V39 -> -402023.59 | W37: =W38+W39 -> -366572.3 | X37: =X38+X39 -> -329284.9 | Y37: =SUM(U37:X37) -> -1529159.4 | AA37: =AA38+AA39 -> -286499.49 | AB37: =AB38+AB39 -> -241811.78 | AC37: =AC38+AC39 -> -191440.3 | AD37: =AD38+AD39 -> -140409.07 | AE37: =SUM(AA37:AD37) -> -860160.65 | AG37: =AG38+AG39 -> -69256.479 | AH37: =AH38+AH39 -> 7.7782897e-08 | AI37: =AI38+AI39 -> 0 | AJ37: =AJ38+AJ39 -> 0 | AK37: =SUM(AG37:AJ37) -> -69256.479 | AM37: =AM38+AM39 -> 0 | AN37: =AN38+AN39 -> 0 | AO37: =AO38+AO39 -> 0 | AP37: =AP38+AP39 -> 0 | AQ37: =SUM(AM37:AP37) -> 0
B38: Cash Interest | C38: =IS!C38 -> 0 | D38: =IS!D38 -> 0 | E38: =IS!E38 -> 0 | F38: =IS!F38 -> 0 | G38: =SUM(C38:F38) -> 0 | I38: =IS!I38 -> 0 | J38: =IS!J38 -> 0 | K38: =K192 -> 0 | L38: =L192 -> 0 | M38: =SUM(I38:L38) -> 0 | O38: =O192 -> -494980.51 | P38: =P192 -> -478881.8 | Q38: =Q192 -> -457435.78 | R38: =R192 -> -432841.37 | S38: =SUM(O38:R38) -> -1864139.5 | U38: =U192 -> -403789.12 | V38: =V192 -> -371700.21 | W38: =W192 -> -334890.98 | X38: =X192 -> -295177.64 | Y38: =SUM(U38:X38) -> -1405558 | AA38: =AA192 -> -251046.76 | AB38: =AB192 -> -203886.53 | AC38: =AC192 -> -152211.35 | AD38: =AD192 -> -97822.035 | AE38: =SUM(AA38:AD38) -> -704966.67 | AG38: =AG192 -> -38988.334 | AH38: =AH192 -> -2.9458897e-08 | AI38: =AI192 -> 0 | AJ38: =AJ192 -> 0 | AK38: =SUM(AG38:AJ38) -> -38988.334 | AM38: =AM192 -> 0 | AN38: =AN192 -> 0 | AO38: =AO192 -> 0 | AP38: =AP192 -> 0 | AQ38: =SUM(AM38:AP38) -> 0
B39: Amortized Financing Fees | C39: =IS!C39 -> 0 | D39: =IS!D39 -> 0 | E39: =IS!E39 -> 0 | F39: =IS!F39 -> 0 | G39: =SUM(C39:F39) -> 0 | I39: =IS!I39 -> 0 | J39: =IS!J39 -> 0 | K39: =K193 -> 0 | L39: =L193 -> 0 | M39: =SUM(I39:L39) -> 0 | O39: =O193 -> -17130.245 | P39: =P193 -> -20991.694 | Q39: =Q193 -> -22963.449 | R39: =R193 -> -25835.437 | S39: =SUM(O39:R39) -> -86920.824 | U39: =U193 -> -27489.507 | V39: =V193 -> -30323.376 | W39: =W193 -> -31681.327 | X39: =X193 -> -34107.258 | Y39: =SUM(U39:X39) -> -123601.47 | AA39: =AA193 -> -35452.731 | AB39: =AB193 -> -37925.251 | AC39: =AC193 -> -39228.952 | AD39: =AD193 -> -42587.039 | AE39: =SUM(AA39:AD39) -> -155193.97 | AG39: =AG193 -> -30268.145 | AH39: =AH193 -> -3.301102e-08 | AI39: =AI193 -> 0 | AJ39: =AJ193 -> 0 | AK39: =SUM(AG39:AJ39) -> -30268.145 | AM39: =AM193 -> 0 | AN39: =AN193 -> 0 | AO39: =AO193 -> 0 | AP39: =AP193 -> 0 | AQ39: =SUM(AM39:AP39) -> 0
B40: Interest Expense (Seller Note) | C40: =IS!C40 -> 0 | D40: =IS!D40 -> 0 | E40: =IS!E40 -> 0 | F40: =IS!F40 -> 0 | G40: =SUM(C40:F40) -> 0 | I40: =IS!I40 -> 0 | J40: =IS!J40 -> 0 | K40: =K194 -> 0 | L40: =L194 -> 0 | M40: =SUM(I40:L40) -> 0 | O40: =O194 -> -98996.103 | P40: =P194 -> -95741.992 | Q40: =Q194 -> -92422.799 | R40: =R194 -> -89037.223 | S40: =SUM(O40:R40) -> -376198.12 | U40: =U194 -> -85583.935 | V40: =V194 -> -82061.581 | W40: =W194 -> -78468.78 | X40: =X194 -> -74804.123 | Y40: =SUM(U40:X40) -> -320918.42 | AA40: =AA194 -> -71066.173 | AB40: =AB194 -> -67253.464 | AC40: =AC194 -> -63364.5 | AD40: =AD194 -> -59397.758 | AE40: =SUM(AA40:AD40) -> -261081.89 | AG40: =AG194 -> -55351.68 | AH40: =AH194 -> -32994.133 | AI40: =AI194 -> -3.0361116e-08 | AJ40: =AJ194 -> 0 | AK40: =SUM(AG40:AJ40) -> -88345.813 | AM40: =AM194 -> 0 | AN40: =AN194 -> 0 | AO40: =AO194 -> 0 | AP40: =AP194 -> 0 | AQ40: =SUM(AM40:AP40) -> 0
B41: Total Other Income / (Expense) | C41: =SUM(C35,C36,C37,C40) -> -13000 | D41: =SUM(D35,D36,D37,D40) -> -10000 | E41: =SUM(E35,E36,E37,E40) -> -6000 | F41: =SUM(F35,F36,F37,F40) -> -3000 | G41: =SUM(C41:F41) -> -32000 | I41: =SUM(I35,I36,I37,I40) -> 0 | J41: =SUM(J35,J36,J37,J40) -> 3000 | K41: =SUM(K35,K36,K37,K40) -> 1750 | L41: =SUM(L35,L36,L37,L40) -> 1750 | M41: =SUM(I41:L41) -> 6500 | O41: =SUM(O35,O36,O37,O40) -> -589476.86 | P41: =SUM(P35,P36,P37,P40) -> -573985.49 | Q41: =SUM(Q35,Q36,Q37,Q40) -> -551192.02 | R41: =SUM(R35,R36,R37,R40) -> -526084.03 | S41: =SUM(O41:R41) -> -2240738.4 | U41: =SUM(U35,U36,U37,U40) -> -494583.67 | V41: =SUM(V35,V36,V37,V40) -> -461806.27 | W41: =SUM(W35,W36,W37,W40) -> -422762.18 | X41: =SUM(X35,X36,X37,X40) -> -381810.12 | Y41: =SUM(U41:X41) -> -1760962.2 | AA41: =SUM(AA35,AA36,AA37,AA40) -> -334618.4 | AB41: =SUM(AB35,AB36,AB37,AB40) -> -286117.97 | AC41: =SUM(AC35,AC36,AC37,AC40) -> -231857.54 | AD41: =SUM(AD35,AD36,AD37,AD40) -> -176859.56 | AE41: =SUM(AA41:AD41) -> -1029453.5 | AG41: =SUM(AG35,AG36,AG37,AG40) -> -100972.47 | AH41: =SUM(AH35,AH36,AH37,AH40) -> -9358.4475 | AI41: =SUM(AI35,AI36,AI37,AI40) -> 23635.685 | AJ41: =SUM(AJ35,AJ36,AJ37,AJ40) -> 23635.685 | AK41: =SUM(AG41:AJ41) -> -63059.552 | AM41: =SUM(AM35,AM36,AM37,AM40) -> 24344.756 | AN41: =SUM(AN35,AN36,AN37,AN40) -> 24344.756 | AO41: =SUM(AO35,AO36,AO37,AO40) -> 24344.756 | AP41: =SUM(AP35,AP36,AP37,AP40) -> 24344.756 | AQ41: =SUM(AM41:AP41) -> 97379.022
B43: Earnings before Tax | C43: =C31+C41 -> 350500 | D43: =D31+D41 -> 417000 | E43: =E31+E41 -> 530000 | F43: =F31+F41 -> 670000 | G43: =SUM(C43:F43) -> 1967500 | I43: =I31+I41 -> 817000 | J43: =J31+J41 -> 1011000 | K43: =K31+K41 -> 1448670.7 | L43: =L31+L41 -> 1679634.4 | M43: =SUM(I43:L43) -> 4956305.1 | O43: =O31+O41 -> 1229803.3 | P43: =P31+P41 -> 1468965.4 | Q43: =Q31+Q41 -> 1635933 | R43: =R31+R41 -> 1862046.5 | S43: =SUM(O43:R43) -> 6196748.2 | U43: =U31+U41 -> 2019471.6 | V43: =V31+V41 -> 2262916.9 | W43: =W31+W41 -> 2409105.6 | X43: =X31+X41 -> 2637401.6 | Y43: =SUM(U43:X43) -> 9328895.7 | AA43: =AA31+AA41 -> 2795280.5 | AB43: =AB31+AB41 -> 3025676.4 | AC43: =AC31+AC41 -> 3165641.5 | AD43: =AD31+AD41 -> 3394563.4 | AE43: =SUM(AA43:AD43) -> 12381162 | AG43: =AG31+AG41 -> 3566162 | AH43: =AH31+AH41 -> 3827314.4 | AI43: =AI31+AI41 -> 3924037.1 | AJ43: =AJ31+AJ41 -> 4084806.7 | AK43: =SUM(AG43:AJ43) -> 15402320 | AM43: =AM31+AM41 -> 4166545.1 | AN43: =AN31+AN41 -> 4324098.4 | AO43: =AO31+AO41 -> 4365260.9 | AP43: =AP31+AP41 -> 4513168.6 | AQ43: =SUM(AM43:AP43) -> 17369073
B45: Income Tax Expense | C45: =IS!C45 -> -70100 | D45: =IS!D45 -> -83400 | E45: =IS!E45 -> -106000 | F45: =IS!F45 -> -134000 | G45: =SUM(C45:F45) -> -393500 | I45: =IS!I45 -> -163400 | J45: =IS!J45 -> -202200 | K45: =K98 -> -333194.26 | L45: =L98 -> -386315.92 | M45: =SUM(I45:L45) -> -1085110.2 | O45: =O98 -> -282854.76 | P45: =P98 -> -337862.04 | Q45: =Q98 -> -376264.6 | R45: =R98 -> -428270.68 | S45: =SUM(O45:R45) -> -1425252.1 | U45: =U98 -> -464478.46 | V45: =V98 -> -520470.9 | W45: =W98 -> -554094.29 | X45: =X98 -> -606602.36 | Y45: =SUM(U45:X45) -> -2145646 | AA45: =AA98 -> -642914.5 | AB45: =AB98 -> -695905.57 | AC45: =AC98 -> -728097.55 | AD45: =AD98 -> -780749.58 | AE45: =SUM(AA45:AD45) -> -2847667.2 | AG45: =AG98 -> -820217.26 | AH45: =AH98 -> -880282.32 | AI45: =AI98 -> -902528.53 | AJ45: =AJ98 -> -939505.55 | AK45: =SUM(AG45:AJ45) -> -3542533.7 | AM45: =AM98 -> -958305.37 | AN45: =AN98 -> -994542.64 | AO45: =AO98 -> -1004010 | AP45: =AP98 -> -1038028.8 | AQ45: =SUM(AM45:AP45) -> -3994886.8
B46: Net Income | C46: =C43+SUM(C45) -> 280400 | D46: =D43+SUM(D45) -> 333600 | E46: =E43+SUM(E45) -> 424000 | F46: =F43+SUM(F45) -> 536000 | G46: =SUM(C46:F46) -> 1574000 | I46: =I43+SUM(I45) -> 653600 | J46: =J43+SUM(J45) -> 808800 | K46: =K43+SUM(K45) -> 1115476.4 | L46: =L43+SUM(L45) -> 1293318.5 | M46: =SUM(I46:L46) -> 3871194.9 | O46: =O43+SUM(O45) -> 946948.54 | P46: =P43+SUM(P45) -> 1131103.4 | Q46: =Q43+SUM(Q45) -> 1259668.4 | R46: =R43+SUM(R45) -> 1433775.8 | S46: =SUM(O46:R46) -> 4771496.1 | U46: =U43+SUM(U45) -> 1554993.1 | V46: =V43+SUM(V45) -> 1742446 | W46: =W43+SUM(W45) -> 1855011.3 | X46: =X43+SUM(X45) -> 2030799.2 | Y46: =SUM(U46:X46) -> 7183249.7 | AA46: =AA43+SUM(AA45) -> 2152365.9 | AB46: =AB43+SUM(AB45) -> 2329770.8 | AC46: =AC43+SUM(AC45) -> 2437544 | AD46: =AD43+SUM(AD45) -> 2613813.8 | AE46: =SUM(AA46:AD46) -> 9533494.6 | AG46: =AG43+SUM(AG45) -> 2745944.7 | AH46: =AH43+SUM(AH45) -> 2947032.1 | AI46: =AI43+SUM(AI45) -> 3021508.6 | AJ46: =AJ43+SUM(AJ45) -> 3145301.2 | AK46: =SUM(AG46:AJ46) -> 11859787 | AM46: =AM43+SUM(AM45) -> 3208239.7 | AN46: =AN43+SUM(AN45) -> 3329555.8 | AO46: =AO43+SUM(AO45) -> 3361250.9 | AP46: =AP43+SUM(AP45) -> 3475139.8 | AQ46: =SUM(AM46:AP46) -> 13374186
B47: Margin % | C47: =IFERROR(C46/C12,0) -> 0.089728 | D47: =IFERROR(D46/D12,0) -> 0.096976744 | E47: =IFERROR(E46/E12,0) -> 0.11208036 | F47: =IFERROR(F46/F12,0) -> 0.12925006 | G47: =IFERROR(G46/G12,0) -> 0.10858917 | I47: =IFERROR(I46/I12,0) -> 0.14349067 | J47: =IFERROR(J46/J12,0) -> 0.16047619 | K47: =IFERROR(K46/K12,0) -> 0.21262456 | L47: =IFERROR(L46/L12,0) -> 0.23364283 | M47: =IFERROR(M46/M12,0) -> 0.18998166 | O47: =IFERROR(O46/O12,0) -> 0.1628306 | P47: =IFERROR(P46/P12,0) -> 0.18555949 | Q47: =IFERROR(Q46/Q12,0) -> 0.20070623 | R47: =IFERROR(R46/R12,0) -> 0.21963846 | S47: =IFERROR(S46/S12,0) -> 0.19305877 | U47: =IFERROR(U46/U12,0) -> 0.2289549 | V47: =IFERROR(V46/V12,0) -> 0.24696243 | W47: =IFERROR(W46/W12,0) -> 0.25801017 | X47: =IFERROR(X46/X12,0) -> 0.27353463 | Y47: =IFERROR(Y46/Y12,0) -> 0.25238763 | AA47: =IFERROR(AA46/AA12,0) -> 0.28054098 | AB47: =IFERROR(AB46/AB12,0) -> 0.29490854 | AC47: =IFERROR(AC46/AC12,0) -> 0.30441515 | AD47: =IFERROR(AD46/AD12,0) -> 0.31778509 | AE47: =IFERROR(AE46/AE12,0) -> 0.29975229 | AG47: =IFERROR(AG46/AG12,0) -> 0.32467427 | AH47: =IFERROR(AH46/AH12,0) -> 0.3399176 | AI47: =IFERROR(AI46/AI12,0) -> 0.34532919 | AJ47: =IFERROR(AJ46/AJ12,0) -> 0.35139215 | AK47: =IFERROR(AK46/AK12,0) -> 0.34052449 | AM47: =IFERROR(AM46/AM12,0) -> 0.34992356 | AN47: =IFERROR(AN46/AN12,0) -> 0.35550533 | AO47: =IFERROR(AO46/AO12,0) -> 0.35692509 | AP47: =IFERROR(AP46/AP12,0) -> 0.36190089 | AQ47: =IFERROR(AQ46/AQ12,0) -> 0.35613396
B51: Balance Sheet
B53: Assets
...

Sheet IS
A1: SaaS Example Co - Income Statement
A2: $USD
A3: Projection Set: "Base Case" | C3: 2025 | G3: 2025 | I3: 2026 | M3: 2026 | O3: 2027 | S3: 2027 | U3: 2028 | Y3: 2028 | AA3: 2029 | AE3: 2029 | AG3: 2030 | AK3: 2030 | AM3: 2031 | AQ3: 2031
A4: Actuals Through: Q2 2026 | C4: Q1 | D4: Q2 | E4: Q3 | F4: Q4 | G4: Full Year | I4: Q1 | J4: Q2 | K4: Q3 | L4: Q4 | M4: Full Year | O4: Q1 | P4: Q2 | Q4: Q3 | R4: Q4 | S4: Full Year | U4: Q1 | V4: Q2 | W4: Q3 | X4: Q4 | Y4: Full Year | AA4: Q1 | AB4: Q2 | AC4: Q3 | AD4: Q4 | AE4: Full Year | AG4: Q1 | AH4: Q2 | AI4: Q3 | AJ4: Q4 | AK4: Full Year | AM4: Q1 | AN4: Q2 | AO4: Q3 | AP4: Q4 | AQ4: Full Year
B6: Income Statement
B8: Revenue
B9: Subscription Revenue | C9: 2800000 | D9: 3080000 | E9: 3388000 | F9: 3727000 | G9: =SUM(C9:F9) -> 12995000 | I9: 4100000 | J9: 4550000 | K9: ='Forecast Logic'!K21 -> 4811725.7 | L9: ='Forecast Logic'!L21 -> 5073451.3 | M9: =SUM(I9:L9) -> 18535177 | O9: ='Forecast Logic'!O21 -> 5315044.2 | P9: ='Forecast Logic'!P21 -> 5556637.2 | Q9: ='Forecast Logic'!Q21 -> 5798230.1 | R9: ='Forecast Logic'!R21 -> 6019690.3 | S9: =SUM(O9:R9) -> 22689602 | U9: ='Forecast Logic'!U21 -> 6241150.4 | V9: ='Forecast Logic'!V21 -> 6462610.6 | W9: ='Forecast Logic'!W21 -> 6663938.1 | X9: ='Forecast Logic'!X21 -> 6865265.5 | Y9: =SUM(U9:X9) -> 26232965 | AA9: ='Forecast Logic'!AA21 -> 7066592.9 | AB9: ='Forecast Logic'!AB21 -> 7247787.6 | AC9: ='Forecast Logic'!AC21 -> 7428982.3 | AD9: ='Forecast Logic'!AD21 -> 7610177 | AE9: =SUM(AA9:AD9) -> 29353540 | AG9: ='Forecast Logic'!AG21 -> 7791371.7 | AH9: ='Forecast Logic'!AH21 -> 7952433.6 | AI9: ='Forecast Logic'!AI21 -> 8113495.6 | AJ9: ='Forecast Logic'!AJ21 -> 8274557.5 | AK9: =SUM(AG9:AJ9) -> 32131858 | AM9: ='Forecast Logic'!AM21 -> 8435619.5 | AN9: ='Forecast Logic'!AN21 -> 8576548.7 | AO9: ='Forecast Logic'!AO21 -> 8717477.9 | AP9: ='Forecast Logic'!AP21 -> 8858407.1 | AQ9: =SUM(AM9:AP9) -> 34588053
B10: Professional Services | C10: 280000 | D10: 310000 | E10: 340000 | F10: 360000 | G10: 1290000 | I10: 390000 | J10: 420000 | K10: =K53 -> 374000 | L10: =L53 -> 396000 | M10: =SUM(I10:L10) -> 1580000 | O10: =O53 -> 429000 | P10: =P53 -> 462000 | Q10: =Q53 -> 411400 | R10: =R53 -> 435600 | S10: =SUM(O10:R10) -> 1738000 | U10: =U53 -> 471900 | V10: =V53 -> 508200 | W10: =W53 -> 452540 | X10: =X53 -> 479160 | Y10: =SUM(U10:X10) -> 1911800 | AA10: =AA53 -> 519090 | AB10: =AB53 -> 559020 | AC10: =AC53 -> 497794 | AD10: =AD53 -> 527076 | AE10: =SUM(AA10:AD10) -> 2102980 | AG10: =AG53 -> 570999 | AH10: =AH53 -> 614922 | AI10: =AI53 -> 547573.4 | AJ10: =AJ53 -> 579783.6 | AK10: =SUM(AG10:AJ10) -> 2313278 | AM10: =AM53 -> 628098.9 | AN10: =AN53 -> 676414.2 | AO10: =AO53 -> 602330.74 | AP10: =AP53 -> 637761.96 | AQ10: =SUM(AM10:AP10) -> 2544605.8
B11: Other Revenue | C11: 45000 | D11: 50000 | E11: 55000 | F11: 60000 | G11: 210000 | I11: 65000 | J11: 70000 | K11: =K60 -> 60500 | L11: =L60 -> 66000 | M11: =SUM(I11:L11) -> 261500 | O11: =O60 -> 71500 | P11: =P60 -> 77000 | Q11: =Q60 -> 66550 | R11: =R60 -> 72600 | S11: =SUM(O11:R11) -> 287650 | U11: =U60 -> 78650 | V11: =V60 -> 84700 | W11: =W60 -> 73205 | X11: =X60 -> 79860 | Y11: =SUM(U11:X11) -> 316415 | AA11: =AA60 -> 86515 | AB11: =AB60 -> 93170 | AC11: =AC60 -> 80525.5 | AD11: =AD60 -> 87846 | AE11: =SUM(AA11:AD11) -> 348056.5 | AG11: =AG60 -> 95166.5 | AH11: =AH60 -> 102487 | AI11: =AI60 -> 88578.05 | AJ11: =AJ60 -> 96630.6 | AK11: =SUM(AG11:AJ11) -> 382862.15 | AM11: =AM60 -> 104683.15 | AN11: =AN60 -> 112735.7 | AO11: =AO60 -> 97435.855 | AP11: =AP60 -> 106293.66 | AQ11: =SUM(AM11:AP11) -> 421148.37
B12: Total Revenue | C12: =SUM(C9,C10,C11) -> 3125000 | D12: =SUM(D9,D10,D11) -> 3440000 | E12: =SUM(E9,E10,E11) -> 3783000 | F12: =SUM(F9,F10,F11) -> 4147000 | G12: =SUM(C12:F12) -> 14495000 | I12: =SUM(I9,I10,I11) -> 4555000 | J12: =SUM(J9,J10,J11) -> 5040000 | K12: =SUM(K9,K10,K11) -> 5246225.7 | L12: =SUM(L9,L10,L11) -> 5535451.3 | M12: =SUM(I12:L12) -> 20376677 | O12: =SUM(O9,O10,O11) -> 5815544.2 | P12: =SUM(P9,P10,P11) -> 6095637.2 | Q12: =SUM(Q9,Q10,Q11) -> 6276180.1 | R12: =SUM(R9,R10,R11) -> 6527890.3 | S12: =SUM(O12:R12) -> 24715252 | U12: =SUM(U9,U10,U11) -> 6791700.4 | V12: =SUM(V9,V10,V11) -> 7055510.6 | W12: =SUM(W9,W10,W11) -> 7189683.1 | X12: =SUM(X9,X10,X11) -> 7424285.5 | Y12: =SUM(U12:X12) -> 28461180 | AA12: =SUM(AA9,AA10,AA11) -> 7672197.9 | AB12: =SUM(AB9,AB10,AB11) -> 7899977.6 | AC12: =SUM(AC9,AC10,AC11) -> 8007301.8 | AD12: =SUM(AD9,AD10,AD11) -> 8225099 | AE12: =SUM(AA12:AD12) -> 31804576 | AG12: =SUM(AG9,AG10,AG11) -> 8457537.2 | AH12: =SUM(AH9,AH10,AH11) -> 8669842.6 | AI12: =SUM(AI9,AI10,AI11) -> 8749647 | AJ12: =SUM(AJ9,AJ10,AJ11) -> 8950971.7 | AK12: =SUM(AG12:AJ12) -> 34827999 | AM12: =SUM(AM9,AM10,AM11) -> 9168401.5 | AN12: =SUM(AN9,AN10,AN11) -> 9365698.6 | AO12: =SUM(AO9,AO10,AO11) -> 9417244.5 | AP12: =SUM(AP9,AP10,AP11) -> 9602462.7 | AQ12: =SUM(AM12:AP12) -> 37553807
B13: Growth (y-o-y) % | C13: =IFERROR(C12/0-1,0) -> 0 | D13: =IFERROR(D12/0-1,0) -> 0 | E13: =IFERROR(E12/0-1,0) -> 0 | F13: =IFERROR(F12/0-1,0) -> 0 | G13: =IFERROR(G12/0-1,0) -> 0 | I13: =IFERROR(I12/C12-1,0) -> 0.4576 | J13: =IFERROR(J12/D12-1,0) -> 0.46511628 | K13: =IFERROR(K12/E12-1,0) -> 0.38678976 | L13: =IFERROR(L12/F12-1,0) -> 0.33480862 | M13: =IFERROR(M12/G12-1,0) -> 0.40577282 | O13: =IFERROR(O12/I12-1,0) -> 0.27673858 | P13: =IFERROR(P12/J12-1,0) -> 0.20945182 | Q13: =IFERROR(Q12/K12-1,0) -> 0.19632294 | R13: =IFERROR(R12/L12-1,0) -> 0.17928781 | S13: =IFERROR(S12/M12-1,0) -> 0.21291866 | U13: =IFERROR(U12/O12-1,0) -> 0.16785294 | V13: =IFERROR(V12/P12-1,0) -> 0.15746893 | W13: =IFERROR(W12/Q12-1,0) -> 0.14555079 | X13: =IFERROR(X12/R12-1,0) -> 0.13731775 | Y13: =IFERROR(Y12/S12-1,0) -> 0.15156341 | AA13: =IFERROR(AA12/U12-1,0) -> 0.12964316 | AB13: =IFERROR(AB12/V12-1,0) -> 0.119689 | AC13: =IFERROR(AC12/W12-1,0) -> 0.11372111 | AD13: =IFERROR(AD12/X12-1,0) -> 0.10786405 | AE13: =IFERROR(AE12/Y12-1,0) -> 0.11747218 | AG13: =IFERROR(AG12/AA12-1,0) -> 0.10236171 | AH13: =IFERROR(AH12/AB12-1,0) -> 0.097451544 | AI13: =IFERROR(AI12/AC12-1,0) -> 0.092708536 | AJ13: =IFERROR(AJ12/AD12-1,0) -> 0.088250942 | AK13: =IFERROR(AK12/AE12-1,0) -> 0.09506249 | AM13: =IFERROR(AM12/AG12-1,0) -> 0.084050986 | AN13: =IFERROR(AN12/AH12-1,0) -> 0.080261658 | AO13: =IFERROR(AO12/AI12-1,0) -> 0.076299929 | AP13: =IFERROR(AP12/AJ12-1,0) -> 0.072784386 | AQ13: =IFERROR(AQ12/AK12-1,0) -> 0.078264868
B15: Cost of Goods Sold
B16: Hosting & Infrastructure | C16: -312500 | D16: -340000 | E16: -370000 | F16: -395000 | G16: -1417500 | I16: -425000 | J16: -460000 | K16: =K70 -> -495282.33 | L16: =L70 -> -522587.37 | M16: =SUM(I16:L16) -> -1902869.7 | O16: =O70 -> -549030.2 | P16: =P70 -> -575473.04 | Q16: =Q70 -> -592517.62 | R16: =R70 -> -616280.91 | S16: =SUM(O16:R16) -> -2333301.8 | U16: =U70 -> -641186.53 | V16: =V70 -> -666092.16 | W16: =W70 -> -678759.02 | X16: =X70 -> -700907.22 | Y16: =SUM(U16:X16) -> -2686944.9 | AA16: =AA70 -> -724311.98 | AB16: =AB70 -> -745816.06 | AC16: =AC70 -> -755948.25 | AD16: =AD70 -> -776509.91 | AE16: =SUM(AA16:AD16) -> -3002586.2 | AG16: =AG70 -> -798453.79 | AH16: =AH70 -> -818496.99 | AI16: =AI70 -> -826031.11 | AJ16: =AJ70 -> -845037.64 | AK16: =SUM(AG16:AJ16) -> -3288019.5 | AM16: =AM70 -> -865564.62 | AN16: =AN70 -> -884190.91 | AO16: =AO70 -> -889057.22 | AP16: =AP70 -> -906543.19 | AQ16: =SUM(AM16:AP16) -> -3545355.9
B17: Customer Support | C17: -187500 | D17: -200000 | E17: -215000 | F17: -230000 | G17: -832500 | I17: -250000 | J17: -270000 | K17: =K79 -> -289527.59 | L17: =L79 -> -305489.31 | M17: =SUM(I17:L17) -> -1115016.9 | O17: =O79 -> -320947.02 | P17: =P79 -> -336404.73 | Q17: =Q79 -> -346368.5 | R17: =R79 -> -360259.82 | S17: =SUM(O17:R17) -> -1363980.1 | U17: =U79 -> -374818.92 | V17: =V79 -> -389378.02 | W17: =W79 -> -396782.7 | X17: =X79 -> -409729.89 | Y17: =SUM(U17:X17) -> -1570709.5 | AA17: =AA79 -> -423411.63 | AB17: =AB79 -> -435982.29 | AC17: =AC79 -> -441905.27 | AD17: =AD79 -> -453925.02 | AE17: =SUM(AA17:AD17) -> -1755224.2 | AG17: =AG79 -> -466752.77 | AH17: =AH79 -> -478469.44 | AI17: =AI79 -> -482873.66 | AJ17: =AJ79 -> -493984.33 | AK17: =SUM(AG17:AJ17) -> -1922080.2 | AM17: =AM79 -> -505983.8 | AN17: =AN79 -> -516872.19 | AO17: =AO79 -> -519716.89 | AP17: =AP79 -> -529938.67 | AQ17: =SUM(AM17:AP17) -> -2072511.5
B18: Professional Services COGS | C18: -168000 | D18: -186000 | E18: -204000 | F18: -216000 | G18: -774000 | I18: -234000 | J18: -252000 | K18: =K88 -> -271995.05 | L18: =L88 -> -286990.21 | M18: =SUM(I18:L18) -> -1044985.3 | O18: =O88 -> -301511.86 | P18: =P88 -> -316033.52 | Q18: =Q88 -> -325393.92 | R18: =R88 -> -338444.05 | S18: =SUM(O18:R18) -> -1281383.4 | U18: =U88 -> -352121.52 | V18: =V88 -> -365798.98 | W18: =W88 -> -372755.26 | X18: =X88 -> -384918.43 | Y18: =SUM(U18:X18) -> -1475594.2 | AA18: =AA88 -> -397771.66 | AB18: =AB88 -> -409581.09 | AC18: =AC88 -> -415145.41 | AD18: =AD88 -> -426437.29 | AE18: =SUM(AA18:AD18) -> -1648935.5 | AG18: =AG88 -> -438488.25 | AH18: =AH88 -> -449495.4 | AI18: =AI88 -> -453632.93 | AJ18: =AJ88 -> -464070.78 | AK18: =SUM(AG18:AJ18) -> -1805687.4 | AM18: =AM88 -> -475343.62 | AN18: =AN88 -> -485572.65 | AO18: =AO88 -> -488245.09 | AP18: =AP88 -> -497847.89 | AQ18: =SUM(AM18:AP18) -> -1947009.2
B19: Total Cost of Goods Sold | C19: =SUM(C16,C17,C18) -> -668000 | D19: =SUM(D16,D17,D18) -> -726000 | E19: =SUM(E16,E17,E18) -> -789000 | F19: =SUM(F16,F17,F18) -> -841000 | G19: =SUM(C19:F19) -> -3024000 | I19: =SUM(I16,I17,I18) -> -909000 | J19: =SUM(J16,J17,J18) -> -982000 | K19: =SUM(K16,K17,K18) -> -1056805 | L19: =SUM(L16,L17,L18) -> -1115066.9 | M19: =SUM(I19:L19) -> -4062871.9 | O19: =SUM(O16,O17,O18) -> -1171489.1 | P19: =SUM(P16,P17,P18) -> -1227911.3 | Q19: =SUM(Q16,Q17,Q18) -> -1264280 | R19: =SUM(R16,R17,R18) -> -1314984.8 | S19: =SUM(O19:R19) -> -4978665.2 | U19: =SUM(U16,U17,U18) -> -1368127 | V19: =SUM(V16,V17,V18) -> -1421269.2 | W19: =SUM(W16,W17,W18) -> -1448297 | X19: =SUM(X16,X17,X18) -> -1495555.5 | Y19: =SUM(U19:X19) -> -5733248.7 | AA19: =SUM(AA16,AA17,AA18) -> -1545495.3 | AB19: =SUM(AB16,AB17,AB18) -> -1591379.4 | AC19: =SUM(AC16,AC17,AC18) -> -1612998.9 | AD19: =SUM(AD16,AD17,AD18) -> -1656872.2 | AE19: =SUM(AA19:AD19) -> -6406745.9 | AG19: =SUM(AG16,AG17,AG18) -> -1703694.8 | AH19: =SUM(AH16,AH17,AH18) -> -1746461.8 | AI19: =SUM(AI16,AI17,AI18) -> -1762537.7 | AJ19: =SUM(AJ16,AJ17,AJ18) -> -1803092.8 | AK19: =SUM(AG19:AJ19) -> -7015787.1 | AM19: =SUM(AM16,AM17,AM18) -> -1846892 | AN19: =SUM(AN16,AN17,AN18) -> -1886635.7 | AO19: =SUM(AO16,AO17,AO18) -> -1897019.2 | AP19: =SUM(AP16,AP17,AP18) -> -1934329.8 | AQ19: =SUM(AM19:AP19) -> -7564876.7
B21: Gross Profit | C21: =C12+C19 -> 2457000 | D21: =D12+D19 -> 2714000 | E21: =E12+E19 -> 2994000 | F21: =F12+F19 -> 3306000 | G21: =SUM(C21:F21) -> 11471000 | I21: =I12+I19 -> 3646000 | J21: =J12+J19 -> 4058000 | K21: =K12+K19 -> 4189420.7 | L21: =L12+L19 -> 4420384.4 | M21: =SUM(I21:L21) -> 16313805 | O21: =O12+O19 -> 4644055.2 | P21: =P12+P19 -> 4867725.9 | Q21: =Q12+Q19 -> 5011900.1 | R21: =R12+R19 -> 5212905.5 | S21: =SUM(O21:R21) -> 19736587 | U21: =U12+U19 -> 5423573.5 | V21: =V12+V19 -> 5634241.5 | W21: =W12+W19 -> 5741386.1 | X21: =X12+X19 -> 5928729.9 | Y21: =SUM(U21:X21) -> 22727931 | AA21: =AA12+AA19 -> 6126702.6 | AB21: =AB12+AB19 -> 6308598.2 | AC21: =AC12+AC19 -> 6394302.9 | AD21: =AD12+AD19 -> 6568226.8 | AE21: =SUM(AA21:AD21) -> 25397830 | AG21: =AG12+AG19 -> 6753842.4 | AH21: =AH12+AH19 -> 6923380.8 | AI21: =AI12+AI19 -> 6987109.3 | AJ21: =AJ12+AJ19 -> 7147879 | AK21: =SUM(AG21:AJ21) -> 27812211 | AM21: =AM12+AM19 -> 7321509.5 | AN21: =AN12+AN19 -> 7479062.8 | AO21: =AO12+AO19 -> 7520225.3 | AP21: =AP12+AP19 -> 7668132.9 | AQ21: =SUM(AM21:AP21) -> 29988931
B22: Margin % | C22: =IFERROR(C21/C12,0) -> 0.78624 | D22: =IFERROR(D21/D12,0) -> 0.78895349 | E22: =IFERROR(E21/E12,0) -> 0.79143537 | F22: =IFERROR(F21/F12,0) -> 0.7972028 | G22: =IFERROR(G21/G12,0) -> 0.79137634 | I22: =IFERROR(I21/I12,0) -> 0.80043908 | J22: =IFERROR(J21/J12,0) -> 0.80515873 | K22: =IFERROR(K21/K12,0) -> 0.79855899 | L22: =IFERROR(L21/L12,0) -> 0.79855899 | M22: =IFERROR(M21/M12,0) -> 0.80061166 | O22: =IFERROR(O21/O12,0) -> 0.79855899 | P22: =IFERROR(P21/P12,0) -> 0.79855899 | Q22: =IFERROR(Q21/Q12,0) -> 0.79855899 | R22: =IFERROR(R21/R12,0) -> 0.79855899 | S22: =IFERROR(S21/S12,0) -> 0.79855899 | U22: =IFERROR(U21/U12,0) -> 0.79855899 | V22: =IFERROR(V21/V12,0) -> 0.79855899 | W22: =IFERROR(W21/W12,0) -> 0.79855899 | X22: =IFERROR(X21/X12,0) -> 0.79855899 | Y22: =IFERROR(Y21/Y12,0) -> 0.79855899 | AA22: =IFERROR(AA21/AA12,0) -> 0.79855899 | AB22: =IFERROR(AB21/AB12,0) -> 0.79855899 | AC22: =IFERROR(AC21/AC12,0) -> 0.79855899 | AD22: =IFERROR(AD21/AD12,0) -> 0.79855899 | AE22: =IFERROR(AE21/AE12,0) -> 0.79855899 | AG22: =IFERROR(AG21/AG12,0) -> 0.79855899 | AH22: =IFERROR(AH21/AH12,0) -> 0.79855899 | AI22: =IFERROR(AI21/AI12,0) -> 0.79855899 | AJ22: =IFERROR(AJ21/AJ12,0) -> 0.79855899 | AK22: =IFERROR(AK21/AK12,0) -> 0.79855899 | AM22: =IFERROR(AM21/AM12,0) -> 0.79855899 | AN22: =IFERROR(AN21/AN12,0) -> 0.79855899 | AO22: =IFERROR(AO21/AO12,0) -> 0.79855899 | AP22: =IFERROR(AP21/AP12,0) -> 0.79855899 | AQ22: =IFERROR(AQ21/AQ12,0) -> 0.79855899
B24: Operating Expenses
B25: Sales & Marketing | C25: -937500 | D25: -1032000 | E25: -1097000 | F25: -1161000 | G25: =SUM(C25:F25) -> -4227500 | I25: -1230000 | J25: -1310000 | K25: =SUM(E25:F25,I25:J25)/4 -> -1199500 | L25: =K25 -> -1199500 | M25: =SUM(I25:L25) -> -4939000 | O25: =L25*(1+0.03) -> -1235485 | P25: =O25 -> -1235485 | Q25: =P25 -> -1235485 | R25: =Q25 -> -1235485 | S25: =SUM(O25:R25) -> -4941940 | U25: =R25*(1+0.03) -> -1272549.6 | V25: =U25 -> -1272549.6 | W25: =V25 -> -1272549.6 | X25: =W25 -> -1272549.6 | Y25: =SUM(U25:X25) -> -5090198.2 | AA25: =X25*(1+0.03) -> -1310726 | AB25: =AA25 -> -1310726 | AC25: =AB25 -> -1310726 | AD25: =AC25 -> -1310726 | AE25: =SUM(AA25:AD25) -> -5242904.1 | AG25: =AD25*(1+0.03) -> -1350047.8 | AH25: =AG25 -> -1350047.8 | AI25: =AH25 -> -1350047.8 | AJ25: =AI25 -> -1350047.8 | AK25: =SUM(AG25:AJ25) -> -5400191.3 | AM25: =AJ25*(1+0.03) -> -1390549.3 | AN25: =AM25 -> -1390549.3 | AO25: =AN25 -> -1390549.3 | AP25: =AO25 -> -1390549.3 | AQ25: =SUM(AM25:AP25) -> -5562197
B26: Research & Development | C26: -781000 | D26: -860000 | E26: -946000 | F26: -1037000 | G26: =SUM(C26:F26) -> -3624000 | I26: -1139000 | J26: -1252000 | K26: =SUM(E26:F26,I26:J26)/4 -> -1093500 | L26: =K26 -> -1093500 | M26: =SUM(I26:L26) -> -4578000 | O26: =L26*(1+0.03) -> -1126305 | P26: =O26 -> -1126305 | Q26: =P26 -> -1126305 | R26: =Q26 -> -1126305 | S26: =SUM(O26:R26) -> -4505220 | U26: =R26*(1+0.03) -> -1160094.2 | V26: =U26 -> -1160094.2 | W26: =V26 -> -1160094.2 | X26: =W26 -> -1160094.2 | Y26: =SUM(U26:X26) -> -4640376.6 | AA26: =X26*(1+0.03) -> -1194897 | AB26: =AA26 -> -1194897 | AC26: =AB26 -> -1194897 | AD26: =AC26 -> -1194897 | AE26: =SUM(AA26:AD26) -> -4779587.9 | AG26: =AD26*(1+0.03) -> -1230743.9 | AH26: =AG26 -> -1230743.9 | AI26: =AH26 -> -1230743.9 | AJ26: =AI26 -> -1230743.9 | AK26: =SUM(AG26:AJ26) -> -4922975.5 | AM26: =AJ26*(1+0.03) -> -1267666.2 | AN26: =AM26 -> -1267666.2 | AO26: =AN26 -> -1267666.2 | AP26: =AO26 -> -1267666.2 | AQ26: =SUM(AM26:AP26) -> -5070664.8
B27: General & Administrative | C27: -375000 | D27: -395000 | E27: -415000 | F27: -435000 | G27: =SUM(C27:F27) -> -1620000 | I27: -460000 | J27: -488000 | K27: =SUM(E27:F27,I27:J27)/4 -> -449500 | L27: =K27 -> -449500 | M27: =SUM(I27:L27) -> -1847000 | O27: =L27*(1+0.03) -> -462985 | P27: =O27 -> -462985 | Q27: =P27 -> -462985 | R27: =Q27 -> -462985 | S27: =SUM(O27:R27) -> -1851940 | U27: =R27*(1+0.03) -> -476874.55 | V27: =U27 -> -476874.55 | W27: =V27 -> -476874.55 | X27: =W27 -> -476874.55 | Y27: =SUM(U27:X27) -> -1907498.2 | AA27: =X27*(1+0.03) -> -491180.79 | AB27: =AA27 -> -491180.79 | AC27: =AB27 -> -491180.79 | AD27: =AC27 -> -491180.79 | AE27: =SUM(AA27:AD27) -> -1964723.1 | AG27: =AD27*(1+0.03) -> -505916.21 | AH27: =AG27 -> -505916.21 | AI27: =AH27 -> -505916.21 | AJ27: =AI27 -> -505916.21 | AK27: =SUM(AG27:AJ27) -> -2023664.8 | AM27: =AJ27*(1+0.03) -> -521093.7 | AN27: =AM27 -> -521093.7 | AO27: =AN27 -> -521093.7 | AP27: =AO27 -> -521093.7 | AQ27: =SUM(AM27:AP27) -> -2084374.8
B28: Depreciation & Amortization | C28: 0 | D28: 0 | E28: 0 | F28: 0 | G28: =SUM(C28:F28) -> 0 | I28: 0 | J28: 0 | K28: =Model!K28 -> 0 | L28: =Model!L28 -> 0 | M28: =SUM(I28:L28) -> 0 | O28: =Model!O28 -> 0 | P28: =Model!P28 -> 0 | Q28: =Model!Q28 -> 0 | R28: =Model!R28 -> 0 | S28: =SUM(O28:R28) -> 0 | U28: =Model!U28 -> 0 | V28: =Model!V28 -> 0 | W28: =Model!W28 -> 0 | X28: =Model!X28 -> 0 | Y28: =SUM(U28:X28) -> 0 | AA28: =Model!AA28 -> 0 | AB28: =Model!AB28 -> 0 | AC28: =Model!AC28 -> 0 | AD28: =Model!AD28 -> 0 | AE28: =SUM(AA28:AD28) -> 0 | AG28: =Model!AG28 -> 0 | AH28: =Model!AH28 -> 0 | AI28: =Model!AI28 -> 0 | AJ28: =Model!AJ28 -> 0 | AK28: =SUM(AG28:AJ28) -> 0 | AM28: =Model!AM28 -> 0 | AN28: =Model!AN28 -> 0 | AO28: =Model!AO28 -> 0 | AP28: =Model!AP28 -> 0 | AQ28: =SUM(AM28:AP28) -> 0
B29: Total Operating Expenses | C29: =SUM(C25,C26,C27,C28) -> -2093500 | D29: =SUM(D25,D26,D27,D28) -> -2287000 | E29: =SUM(E25,E26,E27,E28) -> -2458000 | F29: =SUM(F25,F26,F27,F28) -> -2633000 | G29: =SUM(C29:F29) -> -9471500 | I29: =SUM(I25,I26,I27,I28) -> -2829000 | J29: =SUM(J25,J26,J27,J28) -> -3050000 | K29: =SUM(K25,K26,K27,K28) -> -2742500 | L29: =SUM(L25,L26,L27,L28) -> -2742500 | M29: =SUM(I29:L29) -> -11364000 | O29: =SUM(O25,O26,O27,O28) -> -2824775 | P29: =SUM(P25,P26,P27,P28) -> -2824775 | Q29: =SUM(Q25,Q26,Q27,Q28) -> -2824775 | R29: =SUM(R25,R26,R27,R28) -> -2824775 | S29: =SUM(O29:R29) -> -11299100 | U29: =SUM(U25,U26,U27,U28) -> -2909518.2 | V29: =SUM(V25,V26,V27,V28) -> -2909518.2 | W29: =SUM(W25,W26,W27,W28) -> -2909518.2 | X29: =SUM(X25,X26,X27,X28) -> -2909518.2 | Y29: =SUM(U29:X29) -> -11638073 | AA29: =SUM(AA25,AA26,AA27,AA28) -> -2996803.8 | AB29: =SUM(AB25,AB26,AB27,AB28) -> -2996803.8 | AC29: =SUM(AC25,AC26,AC27,AC28) -> -2996803.8 | AD29: =SUM(AD25,AD26,AD27,AD28) -> -2996803.8 | AE29: =SUM(AA29:AD29) -> -11987215 | AG29: =SUM(AG25,AG26,AG27,AG28) -> -3086707.9 | AH29: =SUM(AH25,AH26,AH27,AH28) -> -3086707.9 | AI29: =SUM(AI25,AI26,AI27,AI28) -> -3086707.9 | AJ29: =SUM(AJ25,AJ26,AJ27,AJ28) -> -3086707.9 | AK29: =SUM(AG29:AJ29) -> -12346832 | AM29: =SUM(AM25,AM26,AM27,AM28) -> -3179309.1 | AN29: =SUM(AN25,AN26,AN27,AN28) -> -3179309.1 | AO29: =SUM(AO25,AO26,AO27,AO28) -> -3179309.1 | AP29: =SUM(AP25,AP26,AP27,AP28) -> -3179309.1 | AQ29: =SUM(AM29:AP29) -> -12717237
B31: Operating Income | C31: =C21+C29 -> 363500 | D31: =D21+D29 -> 427000 | E31: =E21+E29 -> 536000 | F31: =F21+F29 -> 673000 | G31: =SUM(C31:F31) -> 1999500 | I31: =I21+I29 -> 817000 | J31: =J21+J29 -> 1008000 | K31: =K21+K29 -> 1446920.7 | L31: =L21+L29 -> 1677884.4 | M31: =SUM(I31:L31) -> 4949805.1 | O31: =O21+O29 -> 1819280.2 | P31: =P21+P29 -> 2042950.9 | Q31: =Q21+Q29 -> 2187125.1 | R31: =R21+R29 -> 2388130.5 | S31: =SUM(O31:R31) -> 8437486.6 | U31: =U21+U29 -> 2514055.2 | V31: =V21+V29 -> 2724723.2 | W31: =W21+W29 -> 2831867.8 | X31: =X21+X29 -> 3019211.7 | Y31: =SUM(U31:X31) -> 11089858 | AA31: =AA21+AA29 -> 3129898.9 | AB31: =AB21+AB29 -> 3311794.4 | AC31: =AC21+AC29 -> 3397499.1 | AD31: =AD21+AD29 -> 3571423 | AE31: =SUM(AA31:AD31) -> 13410615 | AG31: =AG21+AG29 -> 3667134.5 | AH31: =AH21+AH29 -> 3836672.9 | AI31: =AI21+AI29 -> 3900401.4 | AJ31: =AJ21+AJ29 -> 4061171.1 | AK31: =SUM(AG31:AJ31) -> 15465380 | AM31: =AM21+AM29 -> 4142200.3 | AN31: =AN21+AN29 -> 4299753.7 | AO31: =AO21+AO29 -> 4340916.1 | AP31: =AP21+AP29 -> 4488823.8 | AQ31: =SUM(AM31:AP31) -> 17271694
B32: Margin % | C32: =IFERROR(C31/C12,0) -> 0.11632 | D32: =IFERROR(D31/D12,0) -> 0.12412791 | E32: =IFERROR(E31/E12,0) -> 0.14168649 | F32: =IFERROR(F31/F12,0) -> 0.16228599 | G32: =IFERROR(G31/G12,0) -> 0.13794412 | I32: =IFERROR(I31/I12,0) -> 0.17936334 | J32: =IFERROR(J31/J12,0) -> 0.2 | K32: =IFERROR(K31/K12,0) -> 0.27580222 | L32: =IFERROR(L31/L12,0) -> 0.3031161 | M32: =IFERROR(M31/M12,0) -> 0.24291523 | O32: =IFERROR(O31/O12,0) -> 0.31283059 | P32: =IFERROR(P31/P12,0) -> 0.33514969 | Q32: =IFERROR(Q31/Q12,0) -> 0.34848029 | R32: =IFERROR(R31/R12,0) -> 0.36583496 | S32: =IFERROR(S31/S12,0) -> 0.34138785 | U32: =IFERROR(U31/U12,0) -> 0.3701658 | V32: =IFERROR(V31/V12,0) -> 0.3861837 | W32: =IFERROR(W31/W12,0) -> 0.39387937 | X32: =IFERROR(X31/X12,0) -> 0.40666697 | Y32: =IFERROR(Y31/Y12,0) -> 0.38964857 | AA32: =IFERROR(AA31/AA12,0) -> 0.40795335 | AB32: =IFERROR(AB31/AB12,0) -> 0.41921567 | AC32: =IFERROR(AC31/AC12,0) -> 0.42430011 | AD32: =IFERROR(AD31/AD12,0) -> 0.43421033 | AE32: =IFERROR(AE31/AE12,0) -> 0.42165678 | AG32: =IFERROR(AG31/AG12,0) -> 0.43359366 | AH32: =IFERROR(AH31/AH12,0) -> 0.44253086 | AI32: =IFERROR(AI31/AI12,0) -> 0.44577814 | AJ32: =IFERROR(AJ31/AJ12,0) -> 0.45371287 | AK32: =IFERROR(AK31/AK12,0) -> 0.4440502 | AM32: =IFERROR(AM31/AM12,0) -> 0.4517909 | AN32: =IFERROR(AN31/AN12,0) -> 0.45909589 | AO32: =IFERROR(AO31/AO12,0) -> 0.46095396 | AP32: =IFERROR(AP31/AP12,0) -> 0.46746589 | AQ32: =IFERROR(AQ31/AQ12,0) -> 0.45991859
B34: Other Income / (Expense)
B35: Interest Expense | C35: -25000 | D35: -25000 | E35: -24000 | F35: -23000 | G35: =SUM(C35:F35) -> -97000 | I35: -22000 | J35: -21000 | K35: =Model!K35 -> -19250 | L35: =Model!L35 -> -19250 | M35: =SUM(I35:L35) -> -81500 | O35: =Model!O35 -> 0 | P35: =Model!P35 -> 0 | Q35: =Model!Q35 -> 0 | R35: =Model!R35 -> 0 | S35: =SUM(O35:R35) -> 0 | U35: =Model!U35 -> 0 | V35: =Model!V35 -> 0 | W35: =Model!W35 -> 0 | X35: =Model!X35 -> 0 | Y35: =SUM(U35:X35) -> 0 | AA35: =Model!AA35 -> 0 | AB35: =Model!AB35 -> 0 | AC35: =Model!AC35 -> 0 | AD35: =Model!AD35 -> 0 | AE35: =SUM(AA35:AD35) -> 0 | AG35: =Model!AG35 -> 0 | AH35: =Model!AH35 -> 0 | AI35: =Model!AI35 -> 0 | AJ35: =Model!AJ35 -> 0 | AK35: =SUM(AG35:AJ35) -> 0 | AM35: =Model!AM35 -> 0 | AN35: =Model!AN35 -> 0 | AO35: =Model!AO35 -> 0 | AP35: =Model!AP35 -> 0 | AQ35: =SUM(AM35:AP35) -> 0
